BEGIN:VCALENDAR
VERSION:2.0
PRODID:-//hacksw/handcal//NONSGML v1.0//EN
CALSCALE:GREGORIAN
X-WR-TIMEZONE:Europe/Vienna
BEGIN:VEVENT
DESCRIPTION:
DTSTART:20260510T130000
DTEND:20260510T235900
URL;VALUE=URI:https://www.redbullring.com/en/news/wings-for-life-world-run/
LOCATION:Red Bull Ring
SUMMARY:WINGS FOR LIFE WORLD RUN APP RUN EVENT
DTSTAMP:20260420T153959
UID:69e648cf4d724
END:VEVENT
END:VCALENDAR