BEGIN:VCALENDAR
VERSION:2.0
PRODID:-//hacksw/handcal//NONSGML v1.0//EN
CALSCALE:GREGORIAN
X-WR-TIMEZONE:Europe/Vienna
BEGIN:VEVENT
DESCRIPTION:
DTSTART:20260626T000000
DTEND:20260628T235900
URL;VALUE=URI:https://www.redbullring.com/de/events-tickets/formel-1/
LOCATION:Red Bull Ring
SUMMARY:FORMULA 1 LENOVO AUSTRIAN GRAND PRIX 2026
DTSTAMP:20260421T102052
UID:69e74f84d1cbc
END:VEVENT
END:VCALENDAR